BEGIN:VCALENDAR
VERSION:2.0
PRODID:-//The HARZ DISTILLERY - ECPv6.15.17.1//NONSGML v1.0//EN
CALSCALE:GREGORIAN
METHOD:PUBLISH
X-WR-CALNAME:The HARZ DISTILLERY
X-ORIGINAL-URL:https://theharzdistillery.de
X-WR-CALDESC:Veranstaltungen für The HARZ DISTILLERY
REFRESH-INTERVAL;VALUE=DURATION:PT1H
X-Robots-Tag:noindex
X-PUBLISHED-TTL:PT1H
BEGIN:VTIMEZONE
TZID:Europe/Berlin
BEGIN:DAYLIGHT
TZOFFSETFROM:+0100
TZOFFSETTO:+0200
TZNAME:CEST
DTSTART:20250330T010000
END:DAYLIGHT
BEGIN:STANDARD
TZOFFSETFROM:+0200
TZOFFSETTO:+0100
TZNAME:CET
DTSTART:20251026T010000
END:STANDARD
BEGIN:DAYLIGHT
TZOFFSETFROM:+0100
TZOFFSETTO:+0200
TZNAME:CEST
DTSTART:20260329T010000
END:DAYLIGHT
BEGIN:STANDARD
TZOFFSETFROM:+0200
TZOFFSETTO:+0100
TZNAME:CET
DTSTART:20261025T010000
END:STANDARD
BEGIN:DAYLIGHT
TZOFFSETFROM:+0100
TZOFFSETTO:+0200
TZNAME:CEST
DTSTART:20270328T010000
END:DAYLIGHT
BEGIN:STANDARD
TZOFFSETFROM:+0200
TZOFFSETTO:+0100
TZNAME:CET
DTSTART:20271031T010000
END:STANDARD
END:VTIMEZONE
BEGIN:VEVENT
DTSTART;TZID=Europe/Berlin:20260503T130000
DTEND;TZID=Europe/Berlin:20260503T180000
DTSTAMP:20260422T104817
CREATED:20260210T143029Z
LAST-MODIFIED:20260317T124900Z
UID:10001859-1777813200-1777831200@theharzdistillery.de
SUMMARY:Verkaufsoffener Sonntag
DESCRIPTION:Heute haben wir geöffnet. Komm vorbei. Heute erwartetet dich ein besonderes Programm\, welches wir kurz vorher hier bekannt geben werden.
URL:https://theharzdistillery.de/event/verkaufsoffener-sonntag/2026-05-03/
LOCATION:The HARZ DISTILLERY GmbH\, Zollweg 11\, Bad Lauterberg\, 37431\, Germany
CATEGORIES:Sonntagsöffnung
ATTACH;FMTTYPE=image/jpeg:https://theharzdistillery.de/wp-content/uploads/2026/02/offener-sonntag-allgemein.jpg
ORGANIZER;CN="The HARZ DISTILLERY GmbH":MAILTO:info@theharzdistillery.de
END:VEVENT
BEGIN:VEVENT
DTSTART;TZID=Europe/Berlin:20260927T130000
DTEND;TZID=Europe/Berlin:20260927T180000
DTSTAMP:20260422T104817
CREATED:20260210T143029Z
LAST-MODIFIED:20260317T124900Z
UID:10001860-1790514000-1790532000@theharzdistillery.de
SUMMARY:Verkaufsoffener Sonntag
DESCRIPTION:Heute haben wir geöffnet. Komm vorbei. Heute erwartetet dich ein besonderes Programm\, welches wir kurz vorher hier bekannt geben werden.
URL:https://theharzdistillery.de/event/verkaufsoffener-sonntag/2026-09-27/
LOCATION:The HARZ DISTILLERY GmbH\, Zollweg 11\, Bad Lauterberg\, 37431\, Germany
CATEGORIES:Sonntagsöffnung
ATTACH;FMTTYPE=image/jpeg:https://theharzdistillery.de/wp-content/uploads/2026/02/offener-sonntag-allgemein.jpg
ORGANIZER;CN="The HARZ DISTILLERY GmbH":MAILTO:info@theharzdistillery.de
END:VEVENT
BEGIN:VEVENT
DTSTART;TZID=Europe/Berlin:20261018T130000
DTEND;TZID=Europe/Berlin:20261018T180000
DTSTAMP:20260422T104817
CREATED:20260210T143029Z
LAST-MODIFIED:20260317T124900Z
UID:10001861-1792328400-1792346400@theharzdistillery.de
SUMMARY:Verkaufsoffener Sonntag
DESCRIPTION:Heute haben wir geöffnet. Komm vorbei. Heute erwartetet dich ein besonderes Programm\, welches wir kurz vorher hier bekannt geben werden.
URL:https://theharzdistillery.de/event/verkaufsoffener-sonntag/2026-10-18/
LOCATION:The HARZ DISTILLERY GmbH\, Zollweg 11\, Bad Lauterberg\, 37431\, Germany
CATEGORIES:Sonntagsöffnung
ATTACH;FMTTYPE=image/jpeg:https://theharzdistillery.de/wp-content/uploads/2026/02/offener-sonntag-allgemein.jpg
ORGANIZER;CN="The HARZ DISTILLERY GmbH":MAILTO:info@theharzdistillery.de
END:VEVENT
BEGIN:VEVENT
DTSTART;TZID=Europe/Berlin:20261227T130000
DTEND;TZID=Europe/Berlin:20261227T180000
DTSTAMP:20260422T104817
CREATED:20260210T143029Z
LAST-MODIFIED:20260317T124900Z
UID:10001862-1798376400-1798394400@theharzdistillery.de
SUMMARY:Verkaufsoffener Sonntag
DESCRIPTION:Heute haben wir geöffnet. Komm vorbei. Heute erwartetet dich ein besonderes Programm\, welches wir kurz vorher hier bekannt geben werden.
URL:https://theharzdistillery.de/event/verkaufsoffener-sonntag/2026-12-27/
LOCATION:The HARZ DISTILLERY GmbH\, Zollweg 11\, Bad Lauterberg\, 37431\, Germany
CATEGORIES:Sonntagsöffnung
ATTACH;FMTTYPE=image/jpeg:https://theharzdistillery.de/wp-content/uploads/2026/02/offener-sonntag-allgemein.jpg
ORGANIZER;CN="The HARZ DISTILLERY GmbH":MAILTO:info@theharzdistillery.de
END:VEVENT
END:VCALENDAR